BEGIN:VCALENDAR
VERSION:2.0
PRODID:-//Impresariat Artisti - ECPv6.15.13//NONSGML v1.0//EN
CALSCALE:GREGORIAN
METHOD:PUBLISH
X-WR-CALNAME:Impresariat Artisti
X-ORIGINAL-URL:https://impresariat-artisti.ro
X-WR-CALDESC:Evenimente pentru Impresariat Artisti
REFRESH-INTERVAL;VALUE=DURATION:PT1H
X-Robots-Tag:noindex
X-PUBLISHED-TTL:PT1H
BEGIN:VTIMEZONE
TZID:Europe/Helsinki
BEGIN:DAYLIGHT
TZOFFSETFROM:+0200
TZOFFSETTO:+0300
TZNAME:EEST
DTSTART:20170326T010000
END:DAYLIGHT
BEGIN:STANDARD
TZOFFSETFROM:+0300
TZOFFSETTO:+0200
TZNAME:EET
DTSTART:20171029T010000
END:STANDARD
BEGIN:DAYLIGHT
TZOFFSETFROM:+0200
TZOFFSETTO:+0300
TZNAME:EEST
DTSTART:20180325T010000
END:DAYLIGHT
BEGIN:STANDARD
TZOFFSETFROM:+0300
TZOFFSETTO:+0200
TZNAME:EET
DTSTART:20181028T010000
END:STANDARD
BEGIN:DAYLIGHT
TZOFFSETFROM:+0200
TZOFFSETTO:+0300
TZNAME:EEST
DTSTART:20190331T010000
END:DAYLIGHT
BEGIN:STANDARD
TZOFFSETFROM:+0300
TZOFFSETTO:+0200
TZNAME:EET
DTSTART:20191027T010000
END:STANDARD
END:VTIMEZONE
BEGIN:VEVENT
DTSTART;TZID=Europe/Helsinki:20181219T190000
DTEND;TZID=Europe/Helsinki:20181219T203000
DTSTAMP:20260421T023650
CREATED:20181105T053956Z
LAST-MODIFIED:20181108T094440Z
UID:1038-1545246000-1545251400@impresariat-artisti.ro
SUMMARY:Tequila Party
DESCRIPTION:Va invitam la Tequila Party cu Betty si Wilmark\nO calatorie muzicala si de dans in jurul lumii !\nUn show de muzica si dans cu o durata de 50 minute cu multiple schimburi de costume\, 8 dansatori\, percutionist si DJ\, ( Costume Brasil\, Cuba\, Cancan\, Disco… Etc
URL:https://impresariat-artisti.ro/event/tequila-party/
LOCATION:Monaco Club\, Strada Louis Pasteur\, nr. 75\, Cluj Napoca\, 400353\, România
CATEGORIES:concerte
ATTACH;FMTTYPE=image/jpeg:https://impresariat-artisti.ro/wp-content/uploads/impresar-tequila-party-pret.jpg
END:VEVENT
END:VCALENDAR