BEGIN:VCALENDAR
VERSION:2.0
PRODID:-//Impresariat Artisti - ECPv6.15.13//NONSGML v1.0//EN
CALSCALE:GREGORIAN
METHOD:PUBLISH
X-ORIGINAL-URL:https://impresariat-artisti.ro
X-WR-CALDESC:Evenimente pentru Impresariat Artisti
REFRESH-INTERVAL;VALUE=DURATION:PT1H
X-Robots-Tag:noindex
X-PUBLISHED-TTL:PT1H
BEGIN:VTIMEZONE
TZID:UTC
BEGIN:STANDARD
TZOFFSETFROM:+0000
TZOFFSETTO:+0000
TZNAME:UTC
DTSTART:20160101T000000
END:STANDARD
END:VTIMEZONE
BEGIN:VEVENT
DTSTART;TZID=UTC:20180806T190000
DTEND;TZID=UTC:20180806T200000
DTSTAMP:20260425T170238
CREATED:20181109T094838Z
LAST-MODIFIED:20181109T094838Z
UID:5164-1533582000-1533585600@impresariat-artisti.ro
SUMMARY:Zilele Orasului Murgeni - Raymond
DESCRIPTION:In data de 6 august Betty si Raymond au fost invitati la zilele orasului Murgeni unde au sustinut recitaluri live.
URL:https://impresariat-artisti.ro/event/zilele-orasului-murgeni-raymond/
LOCATION:Murgeni\, Murgeni\, România
CATEGORIES:concerte
ATTACH;FMTTYPE=image/jpeg:https://impresariat-artisti.ro/wp-content/uploads/raymond-zilele-orasului.jpg
END:VEVENT
BEGIN:VEVENT
DTSTART;TZID=UTC:20180721T200000
DTEND;TZID=UTC:20180721T230000
DTSTAMP:20260425T170238
CREATED:20181108T083916Z
LAST-MODIFIED:20181108T084011Z
UID:3947-1532203200-1532214000@impresariat-artisti.ro
SUMMARY:Zilele Orasului Bocsa - Elena Gheorghe
DESCRIPTION:Sâmbătă\, 21 iulie de la ora 20.00 începe concertul de muzică pop-dance care îi are invitaţi pe Elena Gheorghe\, Noaptea Târziu\, What’s Up şi Aurelian Temişan.
URL:https://impresariat-artisti.ro/event/zilele-orasului-bocsa-elena-gheorghe/
LOCATION:Bocsa\, Bocsa\, România
CATEGORIES:concerte
ATTACH;FMTTYPE=image/jpeg:https://impresariat-artisti.ro/wp-content/uploads/elena-gheorghe-zilele-orasului.jpg
END:VEVENT
BEGIN:VEVENT
DTSTART;TZID=UTC:20180520T190000
DTEND;TZID=UTC:20180520T200000
DTSTAMP:20260425T170238
CREATED:20181112T092646Z
LAST-MODIFIED:20181112T092646Z
UID:5262-1526842800-1526846400@impresariat-artisti.ro
SUMMARY:Zilele Orasului Todireni - Alessia
DESCRIPTION:Alessia alaturi de trupa sa de dansatori sustine un recital la zilele orasului Todireni in data de 20 mai.
URL:https://impresariat-artisti.ro/event/zilele-orasului-todireni-alessia/
LOCATION:Todireni\, Todireni\, România
CATEGORIES:concerte
ATTACH;FMTTYPE=image/jpeg:https://impresariat-artisti.ro/wp-content/uploads/contact-alessia-impresar-alessia-pret-concert-e1542732334435.jpg
END:VEVENT
BEGIN:VEVENT
DTSTART;TZID=UTC:20170722T190000
DTEND;TZID=UTC:20170722T200000
DTSTAMP:20260425T170238
CREATED:20181113T105755Z
LAST-MODIFIED:20181113T105755Z
UID:5432-1500750000-1500753600@impresariat-artisti.ro
SUMMARY:Zilele Orasului Sacele - Ion din Romania
DESCRIPTION:In data de 22 iulie Ion din RoMania\, Ionica Morosanu si Andreea Banica au fost invitati la Zilele Orasului Sacele.
URL:https://impresariat-artisti.ro/event/zilele-orasului-sacele-ion-din-romania/
LOCATION:Sacele\, Sacele\, România
CATEGORIES:concerte
ATTACH;FMTTYPE=image/jpeg:https://impresariat-artisti.ro/wp-content/uploads/ion-din-romania-zilele-orasului.jpg
END:VEVENT
END:VCALENDAR