BEGIN:VCALENDAR
VERSION:2.0
PRODID:-//Impresariat Artisti - ECPv6.15.13//NONSGML v1.0//EN
CALSCALE:GREGORIAN
METHOD:PUBLISH
X-ORIGINAL-URL:https://impresariat-artisti.ro
X-WR-CALDESC:Evenimente pentru Impresariat Artisti
REFRESH-INTERVAL;VALUE=DURATION:PT1H
X-Robots-Tag:noindex
X-PUBLISHED-TTL:PT1H
BEGIN:VTIMEZONE
TZID:UTC
BEGIN:STANDARD
TZOFFSETFROM:+0000
TZOFFSETTO:+0000
TZNAME:UTC
DTSTART:20170101T000000
END:STANDARD
END:VTIMEZONE
BEGIN:VEVENT
DTSTART;TZID=UTC:20180520T190000
DTEND;TZID=UTC:20180520T220000
DTSTAMP:20260421T011033
CREATED:20181108T121840Z
LAST-MODIFIED:20181108T121840Z
UID:5073-1526842800-1526853600@impresariat-artisti.ro
SUMMARY:Oana Radu - Zilele Sighisoarei
DESCRIPTION:In data de 20 mai Oana Radu\, Sonny Flame si trupa Cargo vor concerta la Zilele Sighisoarei.
URL:https://impresariat-artisti.ro/event/oana-radu-zilele-sighisoarei/
LOCATION:sighisoara\, sighisoara\, România
CATEGORIES:concerte
ATTACH;FMTTYPE=image/jpeg:https://impresariat-artisti.ro/wp-content/uploads/oana-radu-zilele-sighisoarei.jpg
END:VEVENT
END:VCALENDAR