BEGIN:VCALENDAR
VERSION:2.0
PRODID:-//Impresariat Artisti - ECPv6.15.13//NONSGML v1.0//EN
CALSCALE:GREGORIAN
METHOD:PUBLISH
X-ORIGINAL-URL:https://impresariat-artisti.ro
X-WR-CALDESC:Evenimente pentru Impresariat Artisti
REFRESH-INTERVAL;VALUE=DURATION:PT1H
X-Robots-Tag:noindex
X-PUBLISHED-TTL:PT1H
BEGIN:VTIMEZONE
TZID:UTC
BEGIN:STANDARD
TZOFFSETFROM:+0000
TZOFFSETTO:+0000
TZNAME:UTC
DTSTART:20170101T000000
END:STANDARD
END:VTIMEZONE
BEGIN:VEVENT
DTSTART;TZID=UTC:20180806T190000
DTEND;TZID=UTC:20180806T200000
DTSTAMP:20260424T175326
CREATED:20181109T094838Z
LAST-MODIFIED:20181109T094838Z
UID:5164-1533582000-1533585600@impresariat-artisti.ro
SUMMARY:Zilele Orasului Murgeni - Raymond
DESCRIPTION:In data de 6 august Betty si Raymond au fost invitati la zilele orasului Murgeni unde au sustinut recitaluri live.
URL:https://impresariat-artisti.ro/event/zilele-orasului-murgeni-raymond/
LOCATION:Murgeni\, Murgeni\, România
CATEGORIES:concerte
ATTACH;FMTTYPE=image/jpeg:https://impresariat-artisti.ro/wp-content/uploads/raymond-zilele-orasului.jpg
END:VEVENT
BEGIN:VEVENT
DTSTART;TZID=UTC:20180519T190000
DTEND;TZID=UTC:20180519T220000
DTSTAMP:20260424T175326
CREATED:20181108T104059Z
LAST-MODIFIED:20181108T104059Z
UID:5065-1526756400-1526767200@impresariat-artisti.ro
SUMMARY:Zilele Sighisoarei - Raymond
DESCRIPTION:In data de 19 mai trupa Narcotic Sound\, Vunk si Raymond vor concerta la Zilele Sighisoarei.
URL:https://impresariat-artisti.ro/event/zilele-sighisoarei-raymond/
LOCATION:sighisoara\, sighisoara\, România
ATTACH;FMTTYPE=image/jpeg:https://impresariat-artisti.ro/wp-content/uploads/raymond-zilele-sighisoarei.jpg
END:VEVENT
END:VCALENDAR