BEGIN:VCALENDAR
VERSION:2.0
PRODID:-//Impresariat Artisti - ECPv6.15.13//NONSGML v1.0//EN
CALSCALE:GREGORIAN
METHOD:PUBLISH
X-ORIGINAL-URL:https://impresariat-artisti.ro
X-WR-CALDESC:Evenimente pentru Impresariat Artisti
REFRESH-INTERVAL;VALUE=DURATION:PT1H
X-Robots-Tag:noindex
X-PUBLISHED-TTL:PT1H
BEGIN:VTIMEZONE
TZID:UTC
BEGIN:STANDARD
TZOFFSETFROM:+0000
TZOFFSETTO:+0000
TZNAME:UTC
DTSTART:20170101T000000
END:STANDARD
END:VTIMEZONE
BEGIN:VEVENT
DTSTART;TZID=UTC:20180601T190000
DTEND;TZID=UTC:20180601T200000
DTSTAMP:20260422T121006
CREATED:20181112T094922Z
LAST-MODIFIED:20181112T094922Z
UID:5273-1527879600-1527883200@impresariat-artisti.ro
SUMMARY:Domeniul Greaca - Tequila Party by Wilmark si Betty
DESCRIPTION:In data de 1 iunie la Domeniul Greaca are loc o petrecere la piscina unde Wilmark si Betty alaturi de trupa de dansatori sustin show-ul Tequila Party.
URL:https://impresariat-artisti.ro/event/domeniul-greaca-tequila-party-by-wilmark-si-betty/
LOCATION:Domeniul Greaca\, Domeniul Greaca\, Greaca\, România
CATEGORIES:concerte
ATTACH;FMTTYPE=image/jpeg:https://impresariat-artisti.ro/wp-content/uploads/tequila-party-domeniul-greaca.jpg
END:VEVENT
END:VCALENDAR